BEGIN:VCALENDAR
VERSION:2.0
PRODID:-//CittÃ  di Caiazzo - ECPv6.8.3//NONSGML v1.0//EN
CALSCALE:GREGORIAN
METHOD:PUBLISH
X-WR-CALNAME:CittÃ  di Caiazzo
X-ORIGINAL-URL:https://www.comunedicaiazzo.it
X-WR-CALDESC:Eventi per CittÃ  di Caiazzo
REFRESH-INTERVAL;VALUE=DURATION:PT1H
X-Robots-Tag:noindex
X-PUBLISHED-TTL:PT1H
BEGIN:VTIMEZONE
TZID:Europe/Rome
BEGIN:DAYLIGHT
TZOFFSETFROM:+0100
TZOFFSETTO:+0200
TZNAME:CEST
DTSTART:20190331T010000
END:DAYLIGHT
BEGIN:STANDARD
TZOFFSETFROM:+0200
TZOFFSETTO:+0100
TZNAME:CET
DTSTART:20191027T010000
END:STANDARD
END:VTIMEZONE
BEGIN:VEVENT
DTSTART;VALUE=DATE:20190208
DTEND;VALUE=DATE:20190209
DTSTAMP:20260420T134538
CREATED:20190206T154139Z
LAST-MODIFIED:20190206T164024Z
UID:1586-1549584000-1549670399@www.comunedicaiazzo.it
SUMMARY:L'Apicoltura moderna da reddito 8/02/2019
DESCRIPTION:
URL:https://www.comunedicaiazzo.it/event/lapicoltura-moderna-da-reddito
CATEGORIES:Eventi Caiazzo
END:VEVENT
BEGIN:VEVENT
DTSTART;VALUE=DATE:20190126
DTEND;VALUE=DATE:20190127
DTSTAMP:20260420T134538
CREATED:20190121T121338Z
LAST-MODIFIED:20190121T152935Z
UID:1404-1548460800-1548547199@www.comunedicaiazzo.it
SUMMARY:Mostra documentaria "Le Stanze della Memoria"  Inaugurazione - ore 17.00  Palazzo Mazziotti
DESCRIPTION:Mostra documentariaÂ “Le Stanze della Memoria”Â InaugurazioneÂ  – 26 gennaio 2019 – ore 17.00Â Palazzo Mazziotti – Via Umberto\, I – Caiazzo \n 
URL:https://www.comunedicaiazzo.it/event/1404
CATEGORIES:Eventi Caiazzo
ATTACH;FMTTYPE=image/jpeg:https://www.comunedicaiazzo.it/wp-content/uploads/2019/01/stanzedellamemoria_caiazzo.jpg
END:VEVENT
END:VCALENDAR